BEGIN:VCALENDAR
VERSION:2.0
PRODID:-//KSG Greifswald - ECPv6.15.20//NONSGML v1.0//EN
CALSCALE:GREGORIAN
METHOD:PUBLISH
X-WR-CALNAME:KSG Greifswald
X-ORIGINAL-URL:https://ksg-greifswald.de
X-WR-CALDESC:Veranstaltungen für KSG Greifswald
REFRESH-INTERVAL;VALUE=DURATION:PT1H
X-Robots-Tag:noindex
X-PUBLISHED-TTL:PT1H
BEGIN:VTIMEZONE
TZID:Europe/Berlin
BEGIN:DAYLIGHT
TZOFFSETFROM:+0100
TZOFFSETTO:+0200
TZNAME:CEST
DTSTART:20240331T010000
END:DAYLIGHT
BEGIN:STANDARD
TZOFFSETFROM:+0200
TZOFFSETTO:+0100
TZNAME:CET
DTSTART:20241027T010000
END:STANDARD
BEGIN:DAYLIGHT
TZOFFSETFROM:+0100
TZOFFSETTO:+0200
TZNAME:CEST
DTSTART:20250330T010000
END:DAYLIGHT
BEGIN:STANDARD
TZOFFSETFROM:+0200
TZOFFSETTO:+0100
TZNAME:CET
DTSTART:20251026T010000
END:STANDARD
BEGIN:DAYLIGHT
TZOFFSETFROM:+0100
TZOFFSETTO:+0200
TZNAME:CEST
DTSTART:20260329T010000
END:DAYLIGHT
BEGIN:STANDARD
TZOFFSETFROM:+0200
TZOFFSETTO:+0100
TZNAME:CET
DTSTART:20261025T010000
END:STANDARD
END:VTIMEZONE
BEGIN:VEVENT
DTSTART;TZID=Europe/Berlin:20251112T200000
DTEND;TZID=Europe/Berlin:20251112T200000
DTSTAMP:20260422T130340
CREATED:20251028T192715Z
LAST-MODIFIED:20251106T213515Z
UID:1168-1762977600-1762977600@ksg-greifswald.de
SUMMARY:Der historische Jesus
DESCRIPTION:
URL:https://ksg-greifswald.de/programm/der-historische-jesus/
LOCATION:St. Joseph\, Bahnhofstr. 11-13\, Greifswald\, 17489
ATTACH;FMTTYPE=image/jpeg:https://ksg-greifswald.de/wp-content/uploads/2025/10/Jesus-historisch.jpeg
END:VEVENT
END:VCALENDAR