BEGIN:VCALENDAR
VERSION:2.0
PRODID:-//KSG Greifswald - ECPv6.15.20//NONSGML v1.0//EN
CALSCALE:GREGORIAN
METHOD:PUBLISH
X-ORIGINAL-URL:https://ksg-greifswald.de
X-WR-CALDESC:Veranstaltungen für KSG Greifswald
REFRESH-INTERVAL;VALUE=DURATION:PT1H
X-Robots-Tag:noindex
X-PUBLISHED-TTL:PT1H
BEGIN:VTIMEZONE
TZID:Europe/Berlin
BEGIN:DAYLIGHT
TZOFFSETFROM:+0100
TZOFFSETTO:+0200
TZNAME:CEST
DTSTART:20240331T010000
END:DAYLIGHT
BEGIN:STANDARD
TZOFFSETFROM:+0200
TZOFFSETTO:+0100
TZNAME:CET
DTSTART:20241027T010000
END:STANDARD
BEGIN:DAYLIGHT
TZOFFSETFROM:+0100
TZOFFSETTO:+0200
TZNAME:CEST
DTSTART:20250330T010000
END:DAYLIGHT
BEGIN:STANDARD
TZOFFSETFROM:+0200
TZOFFSETTO:+0100
TZNAME:CET
DTSTART:20251026T010000
END:STANDARD
BEGIN:DAYLIGHT
TZOFFSETFROM:+0100
TZOFFSETTO:+0200
TZNAME:CEST
DTSTART:20260329T010000
END:DAYLIGHT
BEGIN:STANDARD
TZOFFSETFROM:+0200
TZOFFSETTO:+0100
TZNAME:CET
DTSTART:20261025T010000
END:STANDARD
BEGIN:DAYLIGHT
TZOFFSETFROM:+0100
TZOFFSETTO:+0200
TZNAME:CEST
DTSTART:20270328T010000
END:DAYLIGHT
BEGIN:STANDARD
TZOFFSETFROM:+0200
TZOFFSETTO:+0100
TZNAME:CET
DTSTART:20271031T010000
END:STANDARD
END:VTIMEZONE
BEGIN:VEVENT
DTSTART;TZID=Europe/Berlin:20260415T183000
DTEND;TZID=Europe/Berlin:20260415T183000
DTSTAMP:20260422T103134
CREATED:20260402T105641Z
LAST-MODIFIED:20260402T105641Z
UID:1253-1776277800-1776277800@ksg-greifswald.de
SUMMARY:Quizabend
DESCRIPTION:
URL:https://ksg-greifswald.de/programm/quizabend/
LOCATION:St. Joseph\, Bahnhofstr. 11-13\, Greifswald\, 17489
ATTACH;FMTTYPE=image/png:https://ksg-greifswald.de/wp-content/uploads/2026/04/Screenshot-2026-04-02-at-12-55-27-SoSe-2026-SharePics-–-Instagram-Post.png
END:VEVENT
BEGIN:VEVENT
DTSTART;TZID=Europe/Berlin:20260408T180000
DTEND;TZID=Europe/Berlin:20260408T180000
DTSTAMP:20260422T103134
CREATED:20260402T105446Z
LAST-MODIFIED:20260402T105446Z
UID:1248-1775671200-1775671200@ksg-greifswald.de
SUMMARY:Ersti-Grillen
DESCRIPTION:
URL:https://ksg-greifswald.de/programm/ersti-grillen/
LOCATION:St. Joseph\, Bahnhofstr. 11-13\, Greifswald\, 17489
CATEGORIES:gemeinsam mit ESG und SMD
ATTACH;FMTTYPE=image/png:https://ksg-greifswald.de/wp-content/uploads/2026/04/Screenshot-2026-04-02-at-12-53-44-SoSe-2026-SharePics-–-Instagram-Post.png
END:VEVENT
BEGIN:VEVENT
DTSTART;TZID=Europe/Berlin:20260128T183000
DTEND;TZID=Europe/Berlin:20260128T183000
DTSTAMP:20260422T103134
CREATED:20260116T131332Z
LAST-MODIFIED:20260116T131332Z
UID:1238-1769625000-1769625000@ksg-greifswald.de
SUMMARY:Abschlussabend
DESCRIPTION:
URL:https://ksg-greifswald.de/programm/abschlussabend/
LOCATION:St. Joseph\, Bahnhofstr. 11-13\, Greifswald\, 17489
ATTACH;FMTTYPE=image/png:https://ksg-greifswald.de/wp-content/uploads/2026/01/Screenshot-2026-01-16-at-14-08-40-WiSe-2025_26-–-Instagram-Post.png
END:VEVENT
BEGIN:VEVENT
DTSTART;TZID=Europe/Berlin:20260125T180000
DTEND;TZID=Europe/Berlin:20260125T190000
DTSTAMP:20260422T103134
CREATED:20250927T101759Z
LAST-MODIFIED:20250927T101759Z
UID:1128-1769364000-1769367600@ksg-greifswald.de
SUMMARY:Universitätsgottesdienst "Nur ein Wort"
DESCRIPTION:Abendandacht zum Semesterabschluss in der Tradition des Stundengebets mit Universitätsprediger Prof. Dr. Tobias Braune-Krickau und Prof. Dr. Matthias Schneider.\nHerzliche Einladung!
URL:https://ksg-greifswald.de/programm/universitaetsgottesdienst-nur-ein-wort/
LOCATION:Dom St. Nikolai\, Domstraße 54\, Greifswald\, 17489
CATEGORIES:gemeinsam mit ESG und SMD,Universitätsgottesdienst
ATTACH;FMTTYPE=image/jpeg:https://ksg-greifswald.de/wp-content/uploads/2025/09/WhatsApp-Image-2025-09-27-at-11.54.59-1.jpeg
END:VEVENT
BEGIN:VEVENT
DTSTART;TZID=Europe/Berlin:20260121T183000
DTEND;TZID=Europe/Berlin:20260121T183000
DTSTAMP:20260422T103134
CREATED:20251028T195349Z
LAST-MODIFIED:20260118T142329Z
UID:1204-1769020200-1769020200@ksg-greifswald.de
SUMMARY:Spieleabend
DESCRIPTION:
URL:https://ksg-greifswald.de/programm/selbstfuersorge-und-selbstliebe/
LOCATION:St. Joseph\, Bahnhofstr. 11-13\, Greifswald\, 17489
ATTACH;FMTTYPE=image/png:https://ksg-greifswald.de/wp-content/uploads/2025/10/Screenshot-2026-01-18-at-15-21-02-WiSe-2025_26-–-Instagram-Post.png
END:VEVENT
BEGIN:VEVENT
DTSTART;TZID=Europe/Berlin:20260114T183000
DTEND;TZID=Europe/Berlin:20260114T183000
DTSTAMP:20260422T103134
CREATED:20260108T090058Z
LAST-MODIFIED:20260108T090058Z
UID:1232-1768415400-1768415400@ksg-greifswald.de
SUMMARY:Weltsynode
DESCRIPTION:
URL:https://ksg-greifswald.de/programm/weltsynode/
LOCATION:St. Joseph\, Bahnhofstr. 11-13\, Greifswald\, 17489
ATTACH;FMTTYPE=image/png:https://ksg-greifswald.de/wp-content/uploads/2026/01/Screenshot-2026-01-08-at-09-56-04-WiSe-2025_26-–-Instagram-Post.png
END:VEVENT
BEGIN:VEVENT
DTSTART;TZID=Europe/Berlin:20260110T190000
DTEND;TZID=Europe/Berlin:20260110T190000
DTSTAMP:20260422T103134
CREATED:20260107T205504Z
LAST-MODIFIED:20260108T090137Z
UID:1223-1768071600-1768071600@ksg-greifswald.de
SUMMARY:Tanzabend
DESCRIPTION:Herzliche Einladung zum Tanzabend der ESG\, SMD und KSG. Erlebe einen tollen Abend mit guter Musik und in geselliger Runde!
URL:https://ksg-greifswald.de/programm/tanzabend/
LOCATION:Lutherhof\, Martin-Luther-Straße 8\, Greifswald\, 17489
CATEGORIES:gemeinsam mit ESG und SMD
ATTACH;FMTTYPE=image/png:https://ksg-greifswald.de/wp-content/uploads/2026/01/Screenshot-2026-01-08-at-09-48-45-WiSe-2025_26-–-Instagram-Post-1.png
END:VEVENT
BEGIN:VEVENT
DTSTART;TZID=Europe/Berlin:20260107T183000
DTEND;TZID=Europe/Berlin:20260107T183000
DTSTAMP:20260422T103134
CREATED:20251028T195126Z
LAST-MODIFIED:20251028T195133Z
UID:1200-1767810600-1767810600@ksg-greifswald.de
SUMMARY:Freier Abend
DESCRIPTION:
URL:https://ksg-greifswald.de/programm/freier-abend-4/
LOCATION:St. Joseph\, Bahnhofstr. 11-13\, Greifswald\, 17489
ATTACH;FMTTYPE=image/jpeg:https://ksg-greifswald.de/wp-content/uploads/2025/10/Freier-Abend-2.jpeg
END:VEVENT
BEGIN:VEVENT
DTSTART;TZID=Europe/Berlin:20251217T183000
DTEND;TZID=Europe/Berlin:20251217T183000
DTSTAMP:20260422T103134
CREATED:20251028T194806Z
LAST-MODIFIED:20251028T194815Z
UID:1192-1765996200-1765996200@ksg-greifswald.de
SUMMARY:Adventliche Stimmung bei Plätzchen und Punsch
DESCRIPTION:
URL:https://ksg-greifswald.de/programm/adventliche-stimmung-bei-plaetzchen-und-punsch/
LOCATION:St. Joseph\, Bahnhofstr. 11-13\, Greifswald\, 17489
ATTACH;FMTTYPE=image/jpeg:https://ksg-greifswald.de/wp-content/uploads/2025/10/Advent.jpeg
END:VEVENT
BEGIN:VEVENT
DTSTART;TZID=Europe/Berlin:20251210T183000
DTEND;TZID=Europe/Berlin:20251210T183000
DTSTAMP:20260422T103134
CREATED:20251028T194932Z
LAST-MODIFIED:20251028T194940Z
UID:1197-1765391400-1765391400@ksg-greifswald.de
SUMMARY:Freier Abend
DESCRIPTION:
URL:https://ksg-greifswald.de/programm/freier-abend-3/
LOCATION:St. Joseph\, Bahnhofstr. 11-13\, Greifswald\, 17489
ATTACH;FMTTYPE=image/jpeg:https://ksg-greifswald.de/wp-content/uploads/2025/10/Freier-Abend.jpeg
END:VEVENT
BEGIN:VEVENT
DTSTART;TZID=Europe/Berlin:20251209T183000
DTEND;TZID=Europe/Berlin:20251209T183000
DTSTAMP:20260422T103134
CREATED:20251028T194336Z
LAST-MODIFIED:20251028T194341Z
UID:1188-1765305000-1765305000@ksg-greifswald.de
SUMMARY:Elefantenabend
DESCRIPTION:
URL:https://ksg-greifswald.de/programm/elefantenabend/
ATTACH;FMTTYPE=image/jpeg:https://ksg-greifswald.de/wp-content/uploads/2025/10/Elefantenabend.jpeg
END:VEVENT
BEGIN:VEVENT
DTSTART;TZID=Europe/Berlin:20251207T180000
DTEND;TZID=Europe/Berlin:20251207T190000
DTSTAMP:20260422T103134
CREATED:20250927T101424Z
LAST-MODIFIED:20250927T101424Z
UID:1123-1765130400-1765134000@ksg-greifswald.de
SUMMARY:Universitätsgottesdienst "Gott wohnt\, wo man in einläßt! (Martin Buber)
DESCRIPTION:Gottesdienst im Advent mit dem Politikwissenschaftler Prof. Dr. Hubertus Buchstein.\nHerzliche Einladung!
URL:https://ksg-greifswald.de/programm/universitaetsgottesdienst-gott-wohnt-wo-man-in-einlaesst-martin-buber/
LOCATION:Dom St. Nikolai\, Domstraße 54\, Greifswald\, 17489
CATEGORIES:gemeinsam mit ESG und SMD,Universitätsgottesdienst
ATTACH;FMTTYPE=image/jpeg:https://ksg-greifswald.de/wp-content/uploads/2025/09/WhatsApp-Image-2025-09-27-at-11.54.38-1.jpeg
END:VEVENT
BEGIN:VEVENT
DTSTART;TZID=Europe/Berlin:20251203T183000
DTEND;TZID=Europe/Berlin:20251203T183000
DTSTAMP:20260422T103134
CREATED:20251028T194141Z
LAST-MODIFIED:20251028T194149Z
UID:1185-1764786600-1764786600@ksg-greifswald.de
SUMMARY:Was ist Eucharistie?
DESCRIPTION:
URL:https://ksg-greifswald.de/programm/was-ist-eucharistie/
LOCATION:St. Joseph\, Bahnhofstr. 11-13\, Greifswald\, 17489
ATTACH;FMTTYPE=image/jpeg:https://ksg-greifswald.de/wp-content/uploads/2025/10/Was-ist-Eucharistie.jpeg
END:VEVENT
BEGIN:VEVENT
DTSTART;TZID=Europe/Berlin:20251127T183000
DTEND;TZID=Europe/Berlin:20251127T183000
DTSTAMP:20260422T103134
CREATED:20251028T193430Z
LAST-MODIFIED:20251028T193451Z
UID:1174-1764268200-1764268200@ksg-greifswald.de
SUMMARY:Bundesweites Pubquiz der Hochschulgemeinden
DESCRIPTION:
URL:https://ksg-greifswald.de/programm/bundesweites-pubquiz-der-hochschulgemeinden-2/
LOCATION:St. Joseph\, Bahnhofstr. 11-13\, Greifswald\, 17489
ATTACH;FMTTYPE=image/jpeg:https://ksg-greifswald.de/wp-content/uploads/2025/10/Pub-quiz.jpeg
END:VEVENT
BEGIN:VEVENT
DTSTART;TZID=Europe/Berlin:20251126T183000
DTEND;TZID=Europe/Berlin:20251126T183000
DTSTAMP:20260422T103134
CREATED:20251124T140919Z
LAST-MODIFIED:20251124T140927Z
UID:1216-1764181800-1764181800@ksg-greifswald.de
SUMMARY:Willkommen in Deutschland - Leben in einer Gemeinschaftsunterkunft
DESCRIPTION:
URL:https://ksg-greifswald.de/programm/willkommen-in-deutschland-leben-in-einer-gemeinschaftsunterkunft/
LOCATION:St. Joseph\, Bahnhofstr. 11-13\, Greifswald\, 17489
ATTACH;FMTTYPE=image/jpeg:https://ksg-greifswald.de/wp-content/uploads/2025/11/WhatsApp-Image-2025-11-24-at-15.05.26.jpeg
END:VEVENT
BEGIN:VEVENT
DTSTART;TZID=Europe/Berlin:20251119T183000
DTEND;TZID=Europe/Berlin:20251119T183000
DTSTAMP:20260422T103134
CREATED:20251028T193942Z
LAST-MODIFIED:20251028T194008Z
UID:1181-1763577000-1763577000@ksg-greifswald.de
SUMMARY:Islam. Historische Einführung\, theologische Auseinandersetzung. Ein katholischer und islamischer Theologe im Gespräch
DESCRIPTION:
URL:https://ksg-greifswald.de/programm/islam-historische-einfuehrung-theologische-auseinandersetzung-ein-katholischer-und-islamischer-theologe-im-gespraech/
LOCATION:St. Joseph\, Bahnhofstr. 11-13\, Greifswald\, 17489
ATTACH;FMTTYPE=image/jpeg:https://ksg-greifswald.de/wp-content/uploads/2025/10/Islam-1.jpeg
END:VEVENT
BEGIN:VEVENT
DTSTART;TZID=Europe/Berlin:20251116T180000
DTEND;TZID=Europe/Berlin:20251116T190000
DTSTAMP:20260422T103134
CREATED:20250927T101038Z
LAST-MODIFIED:20250927T101038Z
UID:1119-1763316000-1763319600@ksg-greifswald.de
SUMMARY:Universitätsgottesdienst "Genug Ja\, mehr Nein"
DESCRIPTION:Abendgottesdienst mit Pfarrerin und Autorin Maike Schöfer.\nHerzliche Einladung!
URL:https://ksg-greifswald.de/programm/universitaetsgottesdienst-genug-ja-mehr-nein/
LOCATION:Dom St. Nikolai\, Domstraße 54\, Greifswald\, 17489
CATEGORIES:gemeinsam mit ESG und SMD,Universitätsgottesdienst
ATTACH;FMTTYPE=image/jpeg:https://ksg-greifswald.de/wp-content/uploads/2025/09/WhatsApp-Image-2025-09-27-at-11.54.19.jpeg
END:VEVENT
BEGIN:VEVENT
DTSTART;TZID=Europe/Berlin:20251112T200000
DTEND;TZID=Europe/Berlin:20251112T200000
DTSTAMP:20260422T103134
CREATED:20251028T192715Z
LAST-MODIFIED:20251106T213515Z
UID:1168-1762977600-1762977600@ksg-greifswald.de
SUMMARY:Der historische Jesus
DESCRIPTION:
URL:https://ksg-greifswald.de/programm/der-historische-jesus/
LOCATION:St. Joseph\, Bahnhofstr. 11-13\, Greifswald\, 17489
ATTACH;FMTTYPE=image/jpeg:https://ksg-greifswald.de/wp-content/uploads/2025/10/Jesus-historisch.jpeg
END:VEVENT
BEGIN:VEVENT
DTSTART;TZID=Europe/Berlin:20251112T183000
DTEND;TZID=Europe/Berlin:20251112T183000
DTSTAMP:20260422T103134
CREATED:20251106T213414Z
LAST-MODIFIED:20251106T213421Z
UID:1210-1762972200-1762972200@ksg-greifswald.de
SUMMARY:Ökumenischer Gottesdienst "EWIGes LEBEN?"
DESCRIPTION:
URL:https://ksg-greifswald.de/programm/oekumenischer-gottesdienst-ewiges-leben/
LOCATION:St. Joseph\, Bahnhofstr. 11-13\, Greifswald\, 17489
ATTACH;FMTTYPE=application/pdf:https://ksg-greifswald.de/wp-content/uploads/2025/11/PlakatEwigesLebenx-1.pdf
END:VEVENT
BEGIN:VEVENT
DTSTART;TZID=Europe/Berlin:20251105T183000
DTEND;TZID=Europe/Berlin:20251105T183000
DTSTAMP:20260422T103134
CREATED:20251028T191046Z
LAST-MODIFIED:20251028T191107Z
UID:1163-1762367400-1762367400@ksg-greifswald.de
SUMMARY:Kleidertausch
DESCRIPTION:
URL:https://ksg-greifswald.de/programm/kleidertausch/
LOCATION:St. Joseph\, Bahnhofstr. 11-13\, Greifswald\, 17489
ATTACH;FMTTYPE=image/jpeg:https://ksg-greifswald.de/wp-content/uploads/2025/10/Kleidertausch.jpeg
END:VEVENT
BEGIN:VEVENT
DTSTART;TZID=Europe/Berlin:20251029T183000
DTEND;TZID=Europe/Berlin:20251029T183000
DTSTAMP:20260422T103134
CREATED:20251028T185931Z
LAST-MODIFIED:20251028T190005Z
UID:1158-1761762600-1761762600@ksg-greifswald.de
SUMMARY:Heißes Eisen - kühl betrachtet      Stereotypen über die katholische Kirche
DESCRIPTION:
URL:https://ksg-greifswald.de/programm/heisses-eisen-kuehl-betrachtet-stereotypen-ueber-die-katholische-kirche/
LOCATION:St. Joseph\, Bahnhofstr. 11-13\, Greifswald\, 17489
ATTACH;FMTTYPE=image/jpeg:https://ksg-greifswald.de/wp-content/uploads/2025/10/Stereotypen.jpeg
END:VEVENT
BEGIN:VEVENT
DTSTART;TZID=Europe/Berlin:20251025T140000
DTEND;TZID=Europe/Berlin:20251025T233000
DTSTAMP:20260422T103134
CREATED:20250724T184125Z
LAST-MODIFIED:20250726T082303Z
UID:1073-1761400800-1761435000@ksg-greifswald.de
SUMMARY:"Zurück ans Meer" - Patfest 2025
DESCRIPTION:Herzliche Einladung zum diesjährigen Patfest!\nMeldet euch gerne bis zum 10.10.2025 unter folgendem Link an: https://docs.google.com/forms/d/e/1FAIpQLScL4BKtM3gZqpXfysle14GA2afBOxqkAZMc_xRn79YIKvG1Dg/viewform?usp=dialog
URL:https://ksg-greifswald.de/programm/zurueck-ans-meer-patfest-2025/
LOCATION:St. Joseph\, Bahnhofstr. 11-13\, Greifswald\, 17489
ATTACH;FMTTYPE=image/png:https://ksg-greifswald.de/wp-content/uploads/2025/07/2025.png
END:VEVENT
BEGIN:VEVENT
DTSTART;TZID=Europe/Berlin:20251022T183000
DTEND;TZID=Europe/Berlin:20251022T183000
DTSTAMP:20260422T103134
CREATED:20251022T092247Z
LAST-MODIFIED:20251022T092422Z
UID:1153-1761157800-1761157800@ksg-greifswald.de
SUMMARY:Führung durch die Kustodie
DESCRIPTION:
URL:https://ksg-greifswald.de/programm/fuehrung-durch-die-kustodie/
LOCATION:St. Joseph\, Bahnhofstr. 11-13\, Greifswald\, 17489
ATTACH;FMTTYPE=image/jpeg:https://ksg-greifswald.de/wp-content/uploads/2025/10/Fuehrung-Kustodie.jpeg
END:VEVENT
BEGIN:VEVENT
DTSTART;TZID=Europe/Berlin:20251015T183000
DTEND;TZID=Europe/Berlin:20251015T233000
DTSTAMP:20260422T103134
CREATED:20251005T204304Z
LAST-MODIFIED:20251014T164233Z
UID:1138-1760553000-1760571000@ksg-greifswald.de
SUMMARY:Mister X
DESCRIPTION:Nach dem Gottesdienst um 18.30 Uhr und einem anschliessendem Abendessen werden wir uns auf die Suche nach Mister X begeben. \nHerzliche Einladung!
URL:https://ksg-greifswald.de/programm/mister-x/
LOCATION:St. Joseph\, Bahnhofstr. 11-13\, Greifswald\, 17489
ATTACH;FMTTYPE=image/jpeg:https://ksg-greifswald.de/wp-content/uploads/2025/10/Mister-X.jpeg
END:VEVENT
BEGIN:VEVENT
DTSTART;TZID=Europe/Berlin:20251012T180000
DTEND;TZID=Europe/Berlin:20251012T190000
DTSTAMP:20260422T103134
CREATED:20250927T100738Z
LAST-MODIFIED:20250927T100738Z
UID:1114-1760292000-1760295600@ksg-greifswald.de
SUMMARY:Universitätsgottesdienst "Stimme\, die Stein zerbricht"
DESCRIPTION:Gottesdienst zur Semestereröffnung mit Pastor Lars-Robin Schulz. \nHerzliche Einladung!
URL:https://ksg-greifswald.de/programm/universitaetsgottesdienst-stimme-die-stein-zerbricht/
LOCATION:Dom St. Nikolai\, Domstraße 54\, Greifswald\, 17489
CATEGORIES:gemeinsam mit ESG und SMD,Universitätsgottesdienst
ATTACH;FMTTYPE=image/jpeg:https://ksg-greifswald.de/wp-content/uploads/2025/09/WhatsApp-Image-2025-09-27-at-11.54.03.jpeg
END:VEVENT
BEGIN:VEVENT
DTSTART;TZID=Europe/Berlin:20251008T180000
DTEND;TZID=Europe/Berlin:20251008T233000
DTSTAMP:20260422T103134
CREATED:20251005T204046Z
LAST-MODIFIED:20251005T204340Z
UID:1134-1759946400-1759966200@ksg-greifswald.de
SUMMARY:Semesterangrillen
DESCRIPTION:Am Mittwoch starten wir ins Wintersemester. Um 18 Uhr beginnen wir gemeinsam mit der ESG und SMD mit einem Semestereröffnungsgottesdienst in St. Joseph. Anschliessend werden wir in der ESG grillen (Martin-Luther-Straße 8\, 17489 Greifswald).\nWir freuen uns viele neue Gesichter! Herzliche Einladung!
URL:https://ksg-greifswald.de/programm/semesterangrillen-2/
LOCATION:St. Joseph\, Bahnhofstr. 11-13\, Greifswald\, 17489
CATEGORIES:gemeinsam mit ESG und SMD
ATTACH;FMTTYPE=image/jpeg:https://ksg-greifswald.de/wp-content/uploads/2025/10/WhatsApp-Image-2025-10-05-at-13.12.43.jpeg
END:VEVENT
BEGIN:VEVENT
DTSTART;TZID=Europe/Berlin:20251001T183000
DTEND;TZID=Europe/Berlin:20251001T233000
DTSTAMP:20260422T103134
CREATED:20250726T083454Z
LAST-MODIFIED:20250726T083454Z
UID:1105-1759343400-1759361400@ksg-greifswald.de
SUMMARY:Freier Abend
DESCRIPTION:Auch während der vorlesungsfreie Zeit treffen wir uns mittwochs um 18.30 Uhr zur Messe in St. Joseph\, essen anschliessend gemeinsam und lassen den Abend bei Tischkicker\, Gesprächen und Spielen ausklingen. \nHerzliche Einladung!
URL:https://ksg-greifswald.de/programm/freier-abend-2-2-2-2-2-2-2-2/
LOCATION:St. Joseph\, Bahnhofstr. 11-13\, Greifswald\, 17489
ATTACH;FMTTYPE=image/jpeg:https://ksg-greifswald.de/wp-content/uploads/2025/07/w08149-small.jpg
END:VEVENT
BEGIN:VEVENT
DTSTART;TZID=Europe/Berlin:20250924T183000
DTEND;TZID=Europe/Berlin:20250924T233000
DTSTAMP:20260422T103134
CREATED:20250726T083427Z
LAST-MODIFIED:20250726T083427Z
UID:1102-1758738600-1758756600@ksg-greifswald.de
SUMMARY:Freier Abend
DESCRIPTION:Auch während der vorlesungsfreie Zeit treffen wir uns mittwochs um 18.30 Uhr zur Messe in St. Joseph\, essen anschliessend gemeinsam und lassen den Abend bei Tischkicker\, Gesprächen und Spielen ausklingen. \nHerzliche Einladung!
URL:https://ksg-greifswald.de/programm/freier-abend-2-2-2-2-2-2-2/
LOCATION:St. Joseph\, Bahnhofstr. 11-13\, Greifswald\, 17489
ATTACH;FMTTYPE=image/jpeg:https://ksg-greifswald.de/wp-content/uploads/2025/07/w08149-small.jpg
END:VEVENT
BEGIN:VEVENT
DTSTART;TZID=Europe/Berlin:20250917T183000
DTEND;TZID=Europe/Berlin:20250917T233000
DTSTAMP:20260422T103134
CREATED:20250726T083354Z
LAST-MODIFIED:20250726T083354Z
UID:1099-1758133800-1758151800@ksg-greifswald.de
SUMMARY:Freier Abend
DESCRIPTION:Auch während der vorlesungsfreie Zeit treffen wir uns mittwochs um 18.30 Uhr zur Messe in St. Joseph\, essen anschliessend gemeinsam und lassen den Abend bei Tischkicker\, Gesprächen und Spielen ausklingen. \nHerzliche Einladung!
URL:https://ksg-greifswald.de/programm/freier-abend-2-2-2-2-2-2/
LOCATION:St. Joseph\, Bahnhofstr. 11-13\, Greifswald\, 17489
ATTACH;FMTTYPE=image/jpeg:https://ksg-greifswald.de/wp-content/uploads/2025/07/w08149-small.jpg
END:VEVENT
BEGIN:VEVENT
DTSTART;TZID=Europe/Berlin:20250910T183000
DTEND;TZID=Europe/Berlin:20250910T233000
DTSTAMP:20260422T103134
CREATED:20250726T083309Z
LAST-MODIFIED:20250726T083325Z
UID:1096-1757529000-1757547000@ksg-greifswald.de
SUMMARY:Freier Abend
DESCRIPTION:Auch während der vorlesungsfreie Zeit treffen wir uns mittwochs um 18.30 Uhr zur Messe in St. Joseph\, essen anschliessend gemeinsam und lassen den Abend bei Tischkicker\, Gesprächen und Spielen ausklingen. \nHerzliche Einladung!
URL:https://ksg-greifswald.de/programm/freier-abend-2-2-2-2-2/
LOCATION:St. Joseph\, Bahnhofstr. 11-13\, Greifswald\, 17489
ATTACH;FMTTYPE=image/jpeg:https://ksg-greifswald.de/wp-content/uploads/2025/07/w08149-small.jpg
END:VEVENT
END:VCALENDAR