BEGIN:VCALENDAR
VERSION:2.0
PRODID:-//KSG Greifswald - ECPv6.15.20//NONSGML v1.0//EN
CALSCALE:GREGORIAN
METHOD:PUBLISH
X-WR-CALNAME:KSG Greifswald
X-ORIGINAL-URL:https://ksg-greifswald.de
X-WR-CALDESC:Veranstaltungen für KSG Greifswald
REFRESH-INTERVAL;VALUE=DURATION:PT1H
X-Robots-Tag:noindex
X-PUBLISHED-TTL:PT1H
BEGIN:VTIMEZONE
TZID:Europe/Berlin
BEGIN:DAYLIGHT
TZOFFSETFROM:+0100
TZOFFSETTO:+0200
TZNAME:CEST
DTSTART:20240331T010000
END:DAYLIGHT
BEGIN:STANDARD
TZOFFSETFROM:+0200
TZOFFSETTO:+0100
TZNAME:CET
DTSTART:20241027T010000
END:STANDARD
BEGIN:DAYLIGHT
TZOFFSETFROM:+0100
TZOFFSETTO:+0200
TZNAME:CEST
DTSTART:20250330T010000
END:DAYLIGHT
BEGIN:STANDARD
TZOFFSETFROM:+0200
TZOFFSETTO:+0100
TZNAME:CET
DTSTART:20251026T010000
END:STANDARD
BEGIN:DAYLIGHT
TZOFFSETFROM:+0100
TZOFFSETTO:+0200
TZNAME:CEST
DTSTART:20260329T010000
END:DAYLIGHT
BEGIN:STANDARD
TZOFFSETFROM:+0200
TZOFFSETTO:+0100
TZNAME:CET
DTSTART:20261025T010000
END:STANDARD
END:VTIMEZONE
BEGIN:VEVENT
DTSTART;TZID=Europe/Berlin:20250504T180000
DTEND;TZID=Europe/Berlin:20250504T190000
DTSTAMP:20260425T132538
CREATED:20250331T200803Z
LAST-MODIFIED:20250331T200803Z
UID:978-1746381600-1746385200@ksg-greifswald.de
SUMMARY:Uni-Gottesdienst "Ein Band der Liebe und des Friedens"
DESCRIPTION:Musikalischer Abendgottesdienst mit Jun. Prof. Nadine Ueberschaer\, dem Chor des Instituts für Kirchenmusik und Prof. Dr. Matthias Schneider (Orgel).
URL:https://ksg-greifswald.de/programm/uni-gottesdienst-ein-band-der-liebe-und-des-friedens/
LOCATION:Dom St. Nikolai\, Domstraße 54\, Greifswald\, 17489
CATEGORIES:Universitätsgottesdienst
ATTACH;FMTTYPE=image/jpeg:https://ksg-greifswald.de/wp-content/uploads/2025/03/WhatsApp-Image-2025-03-31-at-16.30.01.jpeg
END:VEVENT
BEGIN:VEVENT
DTSTART;TZID=Europe/Berlin:20250507T183000
DTEND;TZID=Europe/Berlin:20250507T235900
DTSTAMP:20260425T132538
CREATED:20250423T201411Z
LAST-MODIFIED:20250423T201411Z
UID:999-1746642600-1746662340@ksg-greifswald.de
SUMMARY:Mein Bewusstsein und ich
DESCRIPTION:Wie kann ich mit meinem Selbst und meinem Bewusstsein gut sein? Ein Vortrag durch Prof. Beate Klutmann.
URL:https://ksg-greifswald.de/programm/mein-bewusstsein-und-ich/
LOCATION:St. Joseph\, Bahnhofstr. 11-13\, Greifswald\, 17489
ATTACH;FMTTYPE=image/jpeg:https://ksg-greifswald.de/wp-content/uploads/2025/04/Gehirn.jpg
END:VEVENT
BEGIN:VEVENT
DTSTART;TZID=Europe/Berlin:20250514T183000
DTEND;TZID=Europe/Berlin:20250514T235900
DTSTAMP:20260425T132538
CREATED:20250423T201944Z
LAST-MODIFIED:20250423T201944Z
UID:1003-1747247400-1747267140@ksg-greifswald.de
SUMMARY:Theologie in der Bundeshauptstadt
DESCRIPTION:Ein Vortrag durch Dr. Gregor Klapczynski.
URL:https://ksg-greifswald.de/programm/theologie-in-der-bundeshauptstadt/
LOCATION:St. Joseph\, Bahnhofstr. 11-13\, Greifswald\, 17489
ATTACH;FMTTYPE=image/jpeg:https://ksg-greifswald.de/wp-content/uploads/2025/04/Hedwigskathedrale.jpg
END:VEVENT
BEGIN:VEVENT
DTSTART;TZID=Europe/Berlin:20250521T183000
DTEND;TZID=Europe/Berlin:20250521T235900
DTSTAMP:20260425T132538
CREATED:20250423T202347Z
LAST-MODIFIED:20250423T202347Z
UID:1008-1747852200-1747871940@ksg-greifswald.de
SUMMARY:Besuch von den Grypsnasen
DESCRIPTION:Die Klinikclowns erzählen uns von ihrer Arbeit an der Universitätsmedizin Greifswald. Herzliche Einladung!
URL:https://ksg-greifswald.de/programm/besuch-von-den-grypsnasen/
LOCATION:St. Joseph\, Bahnhofstr. 11-13\, Greifswald\, 17489
ATTACH;FMTTYPE=image/jpeg:https://ksg-greifswald.de/wp-content/uploads/2025/04/Grypsnasen.jpg
END:VEVENT
BEGIN:VEVENT
DTSTART;TZID=Europe/Berlin:20250528T183000
DTEND;TZID=Europe/Berlin:20250528T235900
DTSTAMP:20260425T132538
CREATED:20250423T202642Z
LAST-MODIFIED:20250423T202642Z
UID:1012-1748457000-1748476740@ksg-greifswald.de
SUMMARY:Hoch stand der Sanddorn am Strand von Wampen
DESCRIPTION:Oder hoch stand der Sanddorn am Strand von Hiddensee? Ein Ausflug an den Strand bei Greifswald.
URL:https://ksg-greifswald.de/programm/hoch-stand-der-sanddorn-am-strand-von-wampen/
LOCATION:St. Joseph\, Bahnhofstr. 11-13\, Greifswald\, 17489
ATTACH;FMTTYPE=image/jpeg:https://ksg-greifswald.de/wp-content/uploads/2025/04/Strand-scaled.jpeg
END:VEVENT
END:VCALENDAR