BEGIN:VCALENDAR
VERSION:2.0
PRODID:-//KSG Greifswald - ECPv6.15.20//NONSGML v1.0//EN
CALSCALE:GREGORIAN
METHOD:PUBLISH
X-WR-CALNAME:KSG Greifswald
X-ORIGINAL-URL:https://ksg-greifswald.de
X-WR-CALDESC:Veranstaltungen für KSG Greifswald
REFRESH-INTERVAL;VALUE=DURATION:PT1H
X-Robots-Tag:noindex
X-PUBLISHED-TTL:PT1H
BEGIN:VTIMEZONE
TZID:Europe/Berlin
BEGIN:DAYLIGHT
TZOFFSETFROM:+0100
TZOFFSETTO:+0200
TZNAME:CEST
DTSTART:20250330T010000
END:DAYLIGHT
BEGIN:STANDARD
TZOFFSETFROM:+0200
TZOFFSETTO:+0100
TZNAME:CET
DTSTART:20251026T010000
END:STANDARD
BEGIN:DAYLIGHT
TZOFFSETFROM:+0100
TZOFFSETTO:+0200
TZNAME:CEST
DTSTART:20260329T010000
END:DAYLIGHT
BEGIN:STANDARD
TZOFFSETFROM:+0200
TZOFFSETTO:+0100
TZNAME:CET
DTSTART:20261025T010000
END:STANDARD
BEGIN:DAYLIGHT
TZOFFSETFROM:+0100
TZOFFSETTO:+0200
TZNAME:CEST
DTSTART:20270328T010000
END:DAYLIGHT
BEGIN:STANDARD
TZOFFSETFROM:+0200
TZOFFSETTO:+0100
TZNAME:CET
DTSTART:20271031T010000
END:STANDARD
END:VTIMEZONE
BEGIN:VEVENT
DTSTART;TZID=Europe/Berlin:20260422T183000
DTEND;TZID=Europe/Berlin:20260422T183000
DTSTAMP:20260422T125742
CREATED:20260421T190057Z
LAST-MODIFIED:20260421T190122Z
UID:1258-1776882600-1776882600@ksg-greifswald.de
SUMMARY:Wie man Oberbürgermeister wird und wie man es bleibt
DESCRIPTION:
URL:https://ksg-greifswald.de/programm/wie-man-oberbuergermeister-wird-und-wie-man-es-bleibt/
LOCATION:St. Joseph\, Bahnhofstr. 11-13\, Greifswald\, 17489
ATTACH;FMTTYPE=image/png:https://ksg-greifswald.de/wp-content/uploads/2026/04/SoSe-2026.png
END:VEVENT
END:VCALENDAR